BEGIN:VCALENDAR
VERSION:2.0
PRODID:-//Dornoch Cathedral - ECPv6.15.20//NONSGML v1.0//EN
CALSCALE:GREGORIAN
METHOD:PUBLISH
X-ORIGINAL-URL:https://www.dornoch-cathedral.com
X-WR-CALDESC:Events for Dornoch Cathedral
REFRESH-INTERVAL;VALUE=DURATION:PT1H
X-Robots-Tag:noindex
X-PUBLISHED-TTL:PT1H
BEGIN:VTIMEZONE
TZID:UTC
BEGIN:STANDARD
TZOFFSETFROM:+0000
TZOFFSETTO:+0000
TZNAME:UTC
DTSTART:20230101T000000
END:STANDARD
END:VTIMEZONE
BEGIN:VEVENT
DTSTART;TZID=UTC:20240330T080000
DTEND;TZID=UTC:20240407T170000
DTSTAMP:20260424T115304
CREATED:20240301T140241Z
LAST-MODIFIED:20240301T150734Z
UID:8177-1711785600-1712509200@www.dornoch-cathedral.com
SUMMARY:800 Years Celebration Week
DESCRIPTION:Activities\n  \n\n\n\n\n\n\n\nSaturday 30th March\n \n \n\n\nPlaying 2005 Songs of Sutherland DVD\nWest Church Hall\n2.30 – 3.30 pm\n\n\nStories and Songs – “Darkness to Light”\nWest Church Hall\n4.00 – 5.00 pm\n\n\nThe Labyrinth\nDornoch Cathedral\n5.00 – 7.00 pm\n\n\nSunday 31st March\n \n \n\n\nEaster Sunrise Service\nThe Beach Car Park\n6.35 am\n\n\nEaster Day Morning Worship\nDornoch Cathedral\n11.00 am\n\n\nSoup & Sweet Lunch in aid of Christian Aid\nWest Church Hall\n12.30 pm\n\n\nSongs of Praise\nDornoch Cathedral\n6.30 pm\n\n\nMonday 1st April\n \n \n\n\nChildren’s Treasure Hunt\nDornoch Cathedral\n2.00 – 4.00 pm\n\n\nConcert with Local Artists\nDornoch Cathedral\n7.00 pm\n\n\nTuesday 2nd – Sunday 7th April\n \n \n\n\nFlower Festival\nDornoch Cathedral\n9.00 am – 5.00 pm
URL:https://www.dornoch-cathedral.com/event/800-years-celebration-week/
CATEGORIES:800 year
END:VEVENT
END:VCALENDAR