BEGIN:VCALENDAR
VERSION:2.0
PRODID:-//Dornoch Cathedral - ECPv6.15.20//NONSGML v1.0//EN
CALSCALE:GREGORIAN
METHOD:PUBLISH
X-WR-CALNAME:Dornoch Cathedral
X-ORIGINAL-URL:https://www.dornoch-cathedral.com
X-WR-CALDESC:Events for Dornoch Cathedral
REFRESH-INTERVAL;VALUE=DURATION:PT1H
X-Robots-Tag:noindex
X-PUBLISHED-TTL:PT1H
BEGIN:VTIMEZONE
TZID:UTC
BEGIN:STANDARD
TZOFFSETFROM:+0000
TZOFFSETTO:+0000
TZNAME:UTC
DTSTART:20230101T000000
END:STANDARD
END:VTIMEZONE
BEGIN:VEVENT
DTSTART;TZID=UTC:20240513T090000
DTEND;TZID=UTC:20240513T150000
DTSTAMP:20260422T185313
CREATED:20240317T132136Z
LAST-MODIFIED:20240317T132136Z
UID:8335-1715590800-1715612400@www.dornoch-cathedral.com
SUMMARY:Main Hall
DESCRIPTION:Natter n Nosh
URL:https://www.dornoch-cathedral.com/event/main-hall-393/
END:VEVENT
BEGIN:VEVENT
DTSTART;TZID=UTC:20240513T150000
DTEND;TZID=UTC:20240513T173000
DTSTAMP:20260422T185313
CREATED:20240317T132241Z
LAST-MODIFIED:20240317T132241Z
UID:8338-1715612400-1715621400@www.dornoch-cathedral.com
SUMMARY:Main Hall
DESCRIPTION:Youth Theatre Group
URL:https://www.dornoch-cathedral.com/event/main-hall-394/
END:VEVENT
END:VCALENDAR