BEGIN:VCALENDAR
VERSION:2.0
PRODID:-//Dornoch Cathedral - ECPv6.15.20//NONSGML v1.0//EN
CALSCALE:GREGORIAN
METHOD:PUBLISH
X-ORIGINAL-URL:https://www.dornoch-cathedral.com
X-WR-CALDESC:Events for Dornoch Cathedral
REFRESH-INTERVAL;VALUE=DURATION:PT1H
X-Robots-Tag:noindex
X-PUBLISHED-TTL:PT1H
BEGIN:VTIMEZONE
TZID:UTC
BEGIN:STANDARD
TZOFFSETFROM:+0000
TZOFFSETTO:+0000
TZNAME:UTC
DTSTART:20230101T000000
END:STANDARD
END:VTIMEZONE
BEGIN:VEVENT
DTSTART;TZID=UTC:20240514T093000
DTEND;TZID=UTC:20240514T100000
DTSTAMP:20260422T200538
CREATED:20240429T172600Z
LAST-MODIFIED:20240429T172600Z
UID:8415-1715679000-1715680800@www.dornoch-cathedral.com
SUMMARY:Main Hall
DESCRIPTION:Baby Massage Group
URL:https://www.dornoch-cathedral.com/event/main-hall-401/
END:VEVENT
BEGIN:VEVENT
DTSTART;TZID=UTC:20240514T100000
DTEND;TZID=UTC:20240514T113000
DTSTAMP:20260422T200538
CREATED:20240429T172700Z
LAST-MODIFIED:20240429T172700Z
UID:8418-1715680800-1715686200@www.dornoch-cathedral.com
SUMMARY:Main Hall
DESCRIPTION:Tuesday Tots
URL:https://www.dornoch-cathedral.com/event/main-hall-402/
END:VEVENT
BEGIN:VEVENT
DTSTART;TZID=UTC:20240514T100000
DTEND;TZID=UTC:20240514T123000
DTSTAMP:20260422T200538
CREATED:20240429T172801Z
LAST-MODIFIED:20240429T172801Z
UID:8421-1715680800-1715689800@www.dornoch-cathedral.com
SUMMARY:Medium Room
DESCRIPTION:Natter n knit
URL:https://www.dornoch-cathedral.com/event/medium-room-58/
END:VEVENT
BEGIN:VEVENT
DTSTART;TZID=UTC:20240514T150000
DTEND;TZID=UTC:20240514T173000
DTSTAMP:20260422T200538
CREATED:20240317T132615Z
LAST-MODIFIED:20240317T132615Z
UID:8344-1715698800-1715707800@www.dornoch-cathedral.com
SUMMARY:Main Hall
DESCRIPTION:Youth Theatre Rehearsals
URL:https://www.dornoch-cathedral.com/event/main-hall-396/
END:VEVENT
END:VCALENDAR