BEGIN:VCALENDAR
VERSION:2.0
PRODID:-//Dornoch Cathedral - ECPv6.15.20//NONSGML v1.0//EN
CALSCALE:GREGORIAN
METHOD:PUBLISH
X-ORIGINAL-URL:https://www.dornoch-cathedral.com
X-WR-CALDESC:Events for Dornoch Cathedral
REFRESH-INTERVAL;VALUE=DURATION:PT1H
X-Robots-Tag:noindex
X-PUBLISHED-TTL:PT1H
BEGIN:VTIMEZONE
TZID:UTC
BEGIN:STANDARD
TZOFFSETFROM:+0000
TZOFFSETTO:+0000
TZNAME:UTC
DTSTART:20240101T000000
END:STANDARD
END:VTIMEZONE
BEGIN:VEVENT
DTSTART;TZID=UTC:20250306T150000
DTEND;TZID=UTC:20250306T173000
DTSTAMP:20260419T184918
CREATED:20250127T190743Z
LAST-MODIFIED:20250127T190743Z
UID:9603-1741273200-1741282200@www.dornoch-cathedral.com
SUMMARY:Main Hall
DESCRIPTION:Youth Theatre Rehearsals
URL:https://www.dornoch-cathedral.com/event/main-hall-550/
END:VEVENT
BEGIN:VEVENT
DTSTART;TZID=UTC:20250306T183000
DTEND;TZID=UTC:20250306T193000
DTSTAMP:20260419T184918
CREATED:20250127T190842Z
LAST-MODIFIED:20250127T190842Z
UID:9606-1741285800-1741289400@www.dornoch-cathedral.com
SUMMARY:Main Hall
DESCRIPTION:The Brownies
URL:https://www.dornoch-cathedral.com/event/main-hall-551/
END:VEVENT
END:VCALENDAR