BEGIN:VCALENDAR
VERSION:2.0
PRODID:-//Dornoch Cathedral - ECPv6.15.20//NONSGML v1.0//EN
CALSCALE:GREGORIAN
METHOD:PUBLISH
X-ORIGINAL-URL:https://www.dornoch-cathedral.com
X-WR-CALDESC:Events for Dornoch Cathedral
REFRESH-INTERVAL;VALUE=DURATION:PT1H
X-Robots-Tag:noindex
X-PUBLISHED-TTL:PT1H
BEGIN:VTIMEZONE
TZID:UTC
BEGIN:STANDARD
TZOFFSETFROM:+0000
TZOFFSETTO:+0000
TZNAME:UTC
DTSTART:20240101T000000
END:STANDARD
END:VTIMEZONE
BEGIN:VEVENT
DTSTART;TZID=UTC:20250310T093000
DTEND;TZID=UTC:20250310T150000
DTSTAMP:20260419T184916
CREATED:20250127T191503Z
LAST-MODIFIED:20250127T191503Z
UID:9622-1741599000-1741618800@www.dornoch-cathedral.com
SUMMARY:Main Hall
DESCRIPTION:Natter n Nosh
URL:https://www.dornoch-cathedral.com/event/main-hall-555/
END:VEVENT
BEGIN:VEVENT
DTSTART;TZID=UTC:20250310T183000
DTEND;TZID=UTC:20250310T200000
DTSTAMP:20260419T184916
CREATED:20250127T191423Z
LAST-MODIFIED:20250127T191423Z
UID:9619-1741631400-1741636800@www.dornoch-cathedral.com
SUMMARY:Main Hall
DESCRIPTION:Girls Brigade
URL:https://www.dornoch-cathedral.com/event/main-hall-554/
END:VEVENT
END:VCALENDAR