BEGIN:VCALENDAR
VERSION:2.0
PRODID:-//Dornoch Cathedral - ECPv6.15.20//NONSGML v1.0//EN
CALSCALE:GREGORIAN
METHOD:PUBLISH
X-ORIGINAL-URL:https://www.dornoch-cathedral.com
X-WR-CALDESC:Events for Dornoch Cathedral
REFRESH-INTERVAL;VALUE=DURATION:PT1H
X-Robots-Tag:noindex
X-PUBLISHED-TTL:PT1H
BEGIN:VTIMEZONE
TZID:UTC
BEGIN:STANDARD
TZOFFSETFROM:+0000
TZOFFSETTO:+0000
TZNAME:UTC
DTSTART:20240101T000000
END:STANDARD
END:VTIMEZONE
BEGIN:VEVENT
DTSTART;TZID=UTC:20250403T110000
DTEND;TZID=UTC:20250403T123000
DTSTAMP:20260419T184541
CREATED:20250325T170618Z
LAST-MODIFIED:20250325T170618Z
UID:9870-1743678000-1743683400@www.dornoch-cathedral.com
SUMMARY:Medium Room
DESCRIPTION:Lent – The Chosen
URL:https://www.dornoch-cathedral.com/event/medium-room-89/
END:VEVENT
BEGIN:VEVENT
DTSTART;TZID=UTC:20250403T183000
DTEND;TZID=UTC:20250403T193000
DTSTAMP:20260419T184541
CREATED:20250127T201236Z
LAST-MODIFIED:20250127T201236Z
UID:9751-1743705000-1743708600@www.dornoch-cathedral.com
SUMMARY:Main Hall
DESCRIPTION:The Brownies
URL:https://www.dornoch-cathedral.com/event/main-hall-588/
END:VEVENT
END:VCALENDAR