BEGIN:VCALENDAR
VERSION:2.0
PRODID:-//Dornoch Cathedral - ECPv6.15.20//NONSGML v1.0//EN
CALSCALE:GREGORIAN
METHOD:PUBLISH
X-WR-CALNAME:Dornoch Cathedral
X-ORIGINAL-URL:https://www.dornoch-cathedral.com
X-WR-CALDESC:Events for Dornoch Cathedral
REFRESH-INTERVAL;VALUE=DURATION:PT1H
X-Robots-Tag:noindex
X-PUBLISHED-TTL:PT1H
BEGIN:VTIMEZONE
TZID:UTC
BEGIN:STANDARD
TZOFFSETFROM:+0000
TZOFFSETTO:+0000
TZNAME:UTC
DTSTART:20240101T000000
END:STANDARD
END:VTIMEZONE
BEGIN:VEVENT
DTSTART;TZID=UTC:20250826T100000
DTEND;TZID=UTC:20250826T113000
DTSTAMP:20260420T010750
CREATED:20250624T192437Z
LAST-MODIFIED:20250624T192437Z
UID:10202-1756202400-1756207800@www.dornoch-cathedral.com
SUMMARY:Main Hall
DESCRIPTION:Tuesday Tots
URL:https://www.dornoch-cathedral.com/event/main-hall-643/
END:VEVENT
BEGIN:VEVENT
DTSTART;TZID=UTC:20250826T100000
DTEND;TZID=UTC:20250826T123000
DTSTAMP:20260420T010750
CREATED:20250624T192516Z
LAST-MODIFIED:20250624T192516Z
UID:10205-1756202400-1756211400@www.dornoch-cathedral.com
SUMMARY:Medium Room
DESCRIPTION:Natter n Knit
URL:https://www.dornoch-cathedral.com/event/medium-room-111/
END:VEVENT
END:VCALENDAR