BEGIN:VCALENDAR
VERSION:2.0
PRODID:-//Dornoch Cathedral - ECPv6.15.20//NONSGML v1.0//EN
CALSCALE:GREGORIAN
METHOD:PUBLISH
X-ORIGINAL-URL:https://www.dornoch-cathedral.com
X-WR-CALDESC:Events for Dornoch Cathedral
REFRESH-INTERVAL;VALUE=DURATION:PT1H
X-Robots-Tag:noindex
X-PUBLISHED-TTL:PT1H
BEGIN:VTIMEZONE
TZID:UTC
BEGIN:STANDARD
TZOFFSETFROM:+0000
TZOFFSETTO:+0000
TZNAME:UTC
DTSTART:20250101T000000
END:STANDARD
END:VTIMEZONE
BEGIN:VEVENT
DTSTART;TZID=UTC:20260320T100000
DTEND;TZID=UTC:20260320T120000
DTSTAMP:20260420T092838
CREATED:20260131T120402Z
LAST-MODIFIED:20260131T120402Z
UID:11193-1774000800-1774008000@www.dornoch-cathedral.com
SUMMARY:Main Hall
DESCRIPTION:COFFEE MORNING – Social Committee
URL:https://www.dornoch-cathedral.com/event/main-hall-746/
END:VEVENT
BEGIN:VEVENT
DTSTART;TZID=UTC:20260320T163000
DTEND;TZID=UTC:20260320T180000
DTSTAMP:20260420T092838
CREATED:20260131T122343Z
LAST-MODIFIED:20260131T122343Z
UID:11247-1774024200-1774029600@www.dornoch-cathedral.com
SUMMARY:Main Hall
DESCRIPTION:YOUTH BAND GROUP
URL:https://www.dornoch-cathedral.com/event/main-hall-762/
END:VEVENT
BEGIN:VEVENT
DTSTART;TZID=UTC:20260320T180000
DTEND;TZID=UTC:20260320T190000
DTSTAMP:20260420T092838
CREATED:20260131T122433Z
LAST-MODIFIED:20260131T122433Z
UID:11250-1774029600-1774033200@www.dornoch-cathedral.com
SUMMARY:Medium Room
DESCRIPTION:CHOIR PRACTICE
URL:https://www.dornoch-cathedral.com/event/medium-room-129/
END:VEVENT
BEGIN:VEVENT
DTSTART;TZID=UTC:20260320T183000
DTEND;TZID=UTC:20260320T193000
DTSTAMP:20260420T092838
CREATED:20260228T130102Z
LAST-MODIFIED:20260228T130102Z
UID:11440-1774031400-1774035000@www.dornoch-cathedral.com
SUMMARY:Main Hall
DESCRIPTION:Line Dancing with Lorraine Bremner
URL:https://www.dornoch-cathedral.com/event/main-hall-798/
END:VEVENT
END:VCALENDAR