BEGIN:VCALENDAR
VERSION:2.0
PRODID:-//Dornoch Cathedral - ECPv6.15.20//NONSGML v1.0//EN
CALSCALE:GREGORIAN
METHOD:PUBLISH
X-WR-CALNAME:Dornoch Cathedral
X-ORIGINAL-URL:https://www.dornoch-cathedral.com
X-WR-CALDESC:Events for Dornoch Cathedral
REFRESH-INTERVAL;VALUE=DURATION:PT1H
X-Robots-Tag:noindex
X-PUBLISHED-TTL:PT1H
BEGIN:VTIMEZONE
TZID:UTC
BEGIN:STANDARD
TZOFFSETFROM:+0000
TZOFFSETTO:+0000
TZNAME:UTC
DTSTART:20230101T000000
END:STANDARD
END:VTIMEZONE
BEGIN:VEVENT
DTSTART;TZID=UTC:20241203T140000
DTEND;TZID=UTC:20241203T160000
DTSTAMP:20260419T131524
CREATED:20240826T180926Z
LAST-MODIFIED:20240826T180926Z
UID:9122-1733234400-1733241600@www.dornoch-cathedral.com
SUMMARY:Main Hall
DESCRIPTION:The Guild
URL:https://www.dornoch-cathedral.com/event/main-hall-490/
END:VEVENT
BEGIN:VEVENT
DTSTART;TZID=UTC:20241209T090000
DTEND;TZID=UTC:20241209T150000
DTSTAMP:20260419T131524
CREATED:20240829T175157Z
LAST-MODIFIED:20240829T175157Z
UID:9158-1733734800-1733756400@www.dornoch-cathedral.com
SUMMARY:Main Hall
DESCRIPTION:Natter n Nosh
URL:https://www.dornoch-cathedral.com/event/main-hall-502/
END:VEVENT
BEGIN:VEVENT
DTSTART;TZID=UTC:20241211T093000
DTEND;TZID=UTC:20241211T160000
DTSTAMP:20260419T131524
CREATED:20240826T181036Z
LAST-MODIFIED:20240826T181036Z
UID:9125-1733909400-1733932800@www.dornoch-cathedral.com
SUMMARY:Main Hall
DESCRIPTION:NHS CLINIC
URL:https://www.dornoch-cathedral.com/event/main-hall-491/
END:VEVENT
BEGIN:VEVENT
DTSTART;TZID=UTC:20241213T100000
DTEND;TZID=UTC:20241213T123000
DTSTAMP:20260419T131524
CREATED:20240826T181228Z
LAST-MODIFIED:20240826T181228Z
UID:9128-1734084000-1734093000@www.dornoch-cathedral.com
SUMMARY:Main Hall
DESCRIPTION:Coffee Morning
URL:https://www.dornoch-cathedral.com/event/main-hall-492/
END:VEVENT
BEGIN:VEVENT
DTSTART;TZID=UTC:20241214T070000
DTEND;TZID=UTC:20241214T230000
DTSTAMP:20260419T131524
CREATED:20241006T111311Z
LAST-MODIFIED:20241006T111311Z
UID:9215-1734159600-1734217200@www.dornoch-cathedral.com
SUMMARY:All Rooms
DESCRIPTION:YOUTH THEATRE PERFORMANCE DAY \nMATINEE – 2PM \nEVENING – 7PM
URL:https://www.dornoch-cathedral.com/event/all-rooms-9/
END:VEVENT
BEGIN:VEVENT
DTSTART;TZID=UTC:20241219T140000
DTEND;TZID=UTC:20241219T160000
DTSTAMP:20260419T131524
CREATED:20240826T181348Z
LAST-MODIFIED:20240826T181348Z
UID:9131-1734616800-1734624000@www.dornoch-cathedral.com
SUMMARY:Main Hall
DESCRIPTION:Living Better Group
URL:https://www.dornoch-cathedral.com/event/main-hall-493/
END:VEVENT
END:VCALENDAR