BEGIN:VCALENDAR
VERSION:2.0
PRODID:-//Dornoch Cathedral - ECPv6.15.20//NONSGML v1.0//EN
CALSCALE:GREGORIAN
METHOD:PUBLISH
X-ORIGINAL-URL:https://www.dornoch-cathedral.com
X-WR-CALDESC:Events for Dornoch Cathedral
REFRESH-INTERVAL;VALUE=DURATION:PT1H
X-Robots-Tag:noindex
X-PUBLISHED-TTL:PT1H
BEGIN:VTIMEZONE
TZID:UTC
BEGIN:STANDARD
TZOFFSETFROM:+0000
TZOFFSETTO:+0000
TZNAME:UTC
DTSTART:20240101T000000
END:STANDARD
END:VTIMEZONE
BEGIN:VEVENT
DTSTART;TZID=UTC:20250107T140000
DTEND;TZID=UTC:20250107T160000
DTSTAMP:20260419T143827
CREATED:20240826T182141Z
LAST-MODIFIED:20240826T182141Z
UID:9134-1736258400-1736265600@www.dornoch-cathedral.com
SUMMARY:Main Hall
DESCRIPTION:The Guild
URL:https://www.dornoch-cathedral.com/event/main-hall-494/
END:VEVENT
BEGIN:VEVENT
DTSTART;TZID=UTC:20250121T140000
DTEND;TZID=UTC:20250121T160000
DTSTAMP:20260419T143827
CREATED:20240826T182314Z
LAST-MODIFIED:20240826T182314Z
UID:9137-1737468000-1737475200@www.dornoch-cathedral.com
SUMMARY:Main Hall
DESCRIPTION:The Guild
URL:https://www.dornoch-cathedral.com/event/main-hall-495/
END:VEVENT
BEGIN:VEVENT
DTSTART;TZID=UTC:20250127T093000
DTEND;TZID=UTC:20250127T150000
DTSTAMP:20260419T143827
CREATED:20250127T200257Z
LAST-MODIFIED:20250127T200257Z
UID:9727-1737970200-1737990000@www.dornoch-cathedral.com
SUMMARY:Main Hall
DESCRIPTION:Natter n Nosh
URL:https://www.dornoch-cathedral.com/event/main-hall-581/
END:VEVENT
BEGIN:VEVENT
DTSTART;TZID=UTC:20250128T093000
DTEND;TZID=UTC:20250128T100000
DTSTAMP:20260419T143827
CREATED:20250127T181432Z
LAST-MODIFIED:20250127T181432Z
UID:9458-1738056600-1738058400@www.dornoch-cathedral.com
SUMMARY:Main Hall
DESCRIPTION:Baby Massage Group
URL:https://www.dornoch-cathedral.com/event/main-hall-510/
END:VEVENT
BEGIN:VEVENT
DTSTART;TZID=UTC:20250128T100000
DTEND;TZID=UTC:20250128T113000
DTSTAMP:20260419T143827
CREATED:20250127T181614Z
LAST-MODIFIED:20250127T181614Z
UID:9462-1738058400-1738063800@www.dornoch-cathedral.com
SUMMARY:Main Hall
DESCRIPTION:Tuesday Tots
URL:https://www.dornoch-cathedral.com/event/main-hall-511/
END:VEVENT
BEGIN:VEVENT
DTSTART;TZID=UTC:20250128T100000
DTEND;TZID=UTC:20250128T123000
DTSTAMP:20260419T143827
CREATED:20250127T181720Z
LAST-MODIFIED:20250127T181720Z
UID:9465-1738058400-1738067400@www.dornoch-cathedral.com
SUMMARY:Medium Hall
DESCRIPTION:Natter n Knit
URL:https://www.dornoch-cathedral.com/event/medium-hall/
END:VEVENT
BEGIN:VEVENT
DTSTART;TZID=UTC:20250130T183000
DTEND;TZID=UTC:20250130T193000
DTSTAMP:20260419T143827
CREATED:20250127T181808Z
LAST-MODIFIED:20250127T181808Z
UID:9468-1738261800-1738265400@www.dornoch-cathedral.com
SUMMARY:Main Hall
DESCRIPTION:The Brownies
URL:https://www.dornoch-cathedral.com/event/main-hall-512/
END:VEVENT
BEGIN:VEVENT
DTSTART;TZID=UTC:20250131T163000
DTEND;TZID=UTC:20250131T180000
DTSTAMP:20260419T143827
CREATED:20250127T181900Z
LAST-MODIFIED:20250127T181900Z
UID:9471-1738341000-1738346400@www.dornoch-cathedral.com
SUMMARY:Main Hall
DESCRIPTION:Youth Band Group
URL:https://www.dornoch-cathedral.com/event/main-hall-513/
END:VEVENT
END:VCALENDAR